BEGIN:VCALENDAR
VERSION:2.0
PRODID:-//Mainzer Freischützen Garde e.V. 1901//NONSGML kigkonsult.se iCalc
 reator 2.30.10//
CALSCALE:GREGORIAN
METHOD:PUBLISH
UID:978d7d4a-821c-45ea-be6e-6b73824720a9
X-WR-CALNAME:iCagenda
X-WR-CALDESC:Event Management Extension for Joomla!
X-WR-RELCALID:3E26604A-50F4-4449-8B3E-E4F4932D05B5
X-WR-TIMEZONE:UTC
BEGIN:VTIMEZONE
TZID:UTC
END:VTIMEZONE
BEGIN:VEVENT
UID:48b63ec1-40b1-4351-becf-97691bae2273
DTSTAMP:20260425T140305Z
CATEGORIES:Kampagne
CLASS:PUBLIC
DESCRIPTION;ALTREP="CID:<FFFF__=0ABBE548DFE235B58f9e8a93d@coffeebean.com>":
 Die Mainzer Freischützen Garde lädt zur Großen Gardesitzung 2027 ins Kurfü
 rstliche Schloss ein – ein Abend voller Fastnacht\, Tradition und mitreiße
 nder Stimmung. Das Publikum erwartet ein abwechslungsreiches Programm aus 
 Garde- und Showtanz\, humorvollen Vorträgen\, musikalischen Höhepunkten un
 d vielen närrischen Überraschungen.\nIn der einzigartigen Atmosphäre des h
 istorischen Schlosses feiern die MFG\, befreundete Garden\, Künstlerinnen 
 und Künstler sowie das närrische Publikum gemeinsam die Mainzer Fastnacht.
  Ob langjährige Fastnachter oder neue Gäste – diese Sitzung bietet beste U
 nterhaltung\, Lebensfreude und ein Programm\, das Tradition und moderne Sh
 owelemente harmonisch verbindet.\nFreuen Sie sich auf einen unvergessliche
 n Abend voller Emotionen\, Humor und närrischer Begeisterung.
DTSTART:20270117T161100Z
DTEND:20270117T221100Z
GEO:+50.006844;+8.269773
LOCATION:Kurfürstliches Schloss
ORGANIZER;CN=:karten@mainzer-freischuetzen-garde.org
SEQUENCE:1
SUMMARY:Große Gardesitzung 2027
TRANSP:OPAQUE
URL:https://mainzer-freischuetzen-garde.org/index.php/veranstaltungen/59-gr
 osse-gardesitzung-4
END:VEVENT
END:VCALENDAR
